BEGIN:VCALENDAR
VERSION:2.0
PRODID:-//Eco Bio Alsace - ECPv6.15.18//NONSGML v1.0//EN
CALSCALE:GREGORIAN
METHOD:PUBLISH
X-ORIGINAL-URL:https://www.ecobio.alsace
X-WR-CALDESC:Évènements pour Eco Bio Alsace
REFRESH-INTERVAL;VALUE=DURATION:PT1H
X-Robots-Tag:noindex
X-PUBLISHED-TTL:PT1H
BEGIN:VTIMEZONE
TZID:Europe/Paris
BEGIN:DAYLIGHT
TZOFFSETFROM:+0100
TZOFFSETTO:+0200
TZNAME:CEST
DTSTART:20250330T010000
END:DAYLIGHT
BEGIN:STANDARD
TZOFFSETFROM:+0200
TZOFFSETTO:+0100
TZNAME:CET
DTSTART:20251026T010000
END:STANDARD
BEGIN:DAYLIGHT
TZOFFSETFROM:+0100
TZOFFSETTO:+0200
TZNAME:CEST
DTSTART:20260329T010000
END:DAYLIGHT
BEGIN:STANDARD
TZOFFSETFROM:+0200
TZOFFSETTO:+0100
TZNAME:CET
DTSTART:20261025T010000
END:STANDARD
BEGIN:DAYLIGHT
TZOFFSETFROM:+0100
TZOFFSETTO:+0200
TZNAME:CEST
DTSTART:20270328T010000
END:DAYLIGHT
BEGIN:STANDARD
TZOFFSETFROM:+0200
TZOFFSETTO:+0100
TZNAME:CET
DTSTART:20271031T010000
END:STANDARD
END:VTIMEZONE
BEGIN:VEVENT
DTSTART;VALUE=DATE:20260514
DTEND;VALUE=DATE:20260518
DTSTAMP:20260425T163107
CREATED:20260309T105704Z
LAST-MODIFIED:20260310T141354Z
UID:575-1778716800-1779062399@www.ecobio.alsace
SUMMARY:Foire Éco Bio Alsace
DESCRIPTION:Au travers de plus de 350 exposants\, sont représentés les domaines de l’agriculture\, l’alimentation\, la santé\, l’habitat\, l’énergie\, l’environnement\, l’éducation\, le bien-être\, la culture et des relations solidaires. \nLieu de rencontres\, d’échanges et de découvertes\, la Foire ne se veut pas uniquement grand marché mais aussi plateforme interactive\, véritable université populaire! \nHoraires :\nExpos et stands :\nJeudi\, vendredi et samedi : 10h-19h\nDimanche : 10h-18h \nAnimations/restauration :\nJeudi\, vendredi et samedi : 10h-23h\nDimanche : 10h-18h \n 
URL:https://www.ecobio.alsace/agenda/foir-eco-bio-alsace/
LOCATION:Parc des Expositions et des Congrès\, Avenue de la Foire aux Vins\, COLMAR\, 68000\, France
CATEGORIES:Évènements
ATTACH;FMTTYPE=image/jpeg:https://www.ecobio.alsace/wp-content/uploads/2023/11/59299270_2227304327316209_4658823950220918784_n-e1699288840607.jpeg
END:VEVENT
END:VCALENDAR